BEGIN:VCALENDAR
VERSION:2.0
PRODID:-//Individia BeratungsWeise - Fasten, Ernährung, Bewusst-sein, Bewegung - ECPv6.15.12.2//NONSGML v1.0//EN
CALSCALE:GREGORIAN
METHOD:PUBLISH
X-ORIGINAL-URL:https://www.individia.at
X-WR-CALDESC:Veranstaltungen für Individia BeratungsWeise - Fasten, Ernährung, Bewusst-sein, Bewegung
REFRESH-INTERVAL;VALUE=DURATION:PT1H
X-Robots-Tag:noindex
X-PUBLISHED-TTL:PT1H
BEGIN:VTIMEZONE
TZID:UTC
BEGIN:STANDARD
TZOFFSETFROM:+0000
TZOFFSETTO:+0000
TZNAME:UTC
DTSTART:20250101T000000
END:STANDARD
END:VTIMEZONE
BEGIN:VEVENT
DTSTART;VALUE=DATE:20260923
DTEND;VALUE=DATE:20260928
DTSTAMP:20260421T123724
CREATED:20240126T173402Z
LAST-MODIFIED:20251205T143002Z
UID:296619-1790121600-1790553599@www.individia.at
SUMMARY:Seehaus Winkler – Yoga-Tage am Weissensee
DESCRIPTION:23. – 27.09.2026 zum Angebot \nzum Seehaus
URL:https://www.individia.at/event/seehaus-winkler-weissensee/
LOCATION:Seehaus Winkler – Weissensee /  Kärnten (A)\, Techendorf 76\, Weißensee\, 9762\, Österreich
CATEGORIES:Fasten
ATTACH;FMTTYPE=image/jpeg:https://www.individia.at/wp-content/uploads/2023/01/ufer-seehauswinkler.jpg
END:VEVENT
END:VCALENDAR